BEGIN:VCALENDAR
VERSION:2.0
PRODID:-//Autodromo Nazionale Monza - ECPv6.10.2//NONSGML v1.0//EN
CALSCALE:GREGORIAN
METHOD:PUBLISH
X-WR-CALNAME:Autodromo Nazionale Monza
X-ORIGINAL-URL:https://www.monzanet.it
X-WR-CALDESC:Eventi per Autodromo Nazionale Monza
REFRESH-INTERVAL;VALUE=DURATION:PT1H
X-Robots-Tag:noindex
X-PUBLISHED-TTL:PT1H
BEGIN:VTIMEZONE
TZID:Europe/Rome
BEGIN:DAYLIGHT
TZOFFSETFROM:+0100
TZOFFSETTO:+0200
TZNAME:CEST
DTSTART:20250330T010000
END:DAYLIGHT
BEGIN:STANDARD
TZOFFSETFROM:+0200
TZOFFSETTO:+0100
TZNAME:CET
DTSTART:20251026T010000
END:STANDARD
END:VTIMEZONE
BEGIN:VEVENT
DTSTART;VALUE=DATE:20250627
DTEND;VALUE=DATE:20250630
DTSTAMP:20260420T063628
CREATED:20250221T161625Z
LAST-MODIFIED:20250627T092806Z
UID:10021154-1750982400-1751241599@www.monzanet.it
SUMMARY:MIMO
DESCRIPTION:La 4ª edizione di MIMO si svolgerà dal 27 al 29 giugno 2025. Torna il festival motoristico internazionale a ingresso totalmente gratuito\, dalla vocazione fortemente dinamica\, che vedrà l’Autodromo Nazionale Monza diventare una vera e propria città dei motori attraversata da parate ed esibizioni di auto mozzafiato e dai convogli di test drive di tutte le novità delle case automobilistiche. Il pubblico di appassionati e famiglie avrà a disposizione tre giorni per provare le novità dei brand\, ammirare anche prototipi\, supercar\, hypercar\, auto storiche\, e partecipare alle attività di intrattenimento\, di gioco e ristoro. \nINGRESSO \nL’ingresso sarà attivo da venerdì 30 maggio a domenica 1 giugno\, dalle 7:00 alle 20:30\, tramite il Gate A di Vedano ed il Gate B Santa Maria delle Selve\, con accesso sia pedonale che veicolare. \nPARCHEGGIO \nDurante le giornate di venerdì\, sabato e domenica\, saranno disponibili parcheggi per il pubblico con le seguenti tariffe (pagamento in loco): \n\nAuto: €20 al giorno\nMoto: €10 al giorno\nMinibus: €30 al giorno\nBus: €50 al giorno\n\nTRIBUNE DISPONIBILI \n \n  \nPROGRAMMA E MAPPA \n 
URL:https://www.monzanet.it/evento/mimo-2/
CATEGORIES:MICE
ATTACH;FMTTYPE=image/jpeg:https://www.monzanet.it/wp-content/uploads/2025/02/mimo.jpg
END:VEVENT
END:VCALENDAR