BEGIN:VCALENDAR
VERSION:2.0
PRODID:-//Autodromo Nazionale Monza - ECPv6.10.2//NONSGML v1.0//EN
CALSCALE:GREGORIAN
METHOD:PUBLISH
X-ORIGINAL-URL:https://www.monzanet.it
X-WR-CALDESC:Eventi per Autodromo Nazionale Monza
REFRESH-INTERVAL;VALUE=DURATION:PT1H
X-Robots-Tag:noindex
X-PUBLISHED-TTL:PT1H
BEGIN:VTIMEZONE
TZID:Europe/Rome
BEGIN:DAYLIGHT
TZOFFSETFROM:+0100
TZOFFSETTO:+0200
TZNAME:CEST
DTSTART:20260329T010000
END:DAYLIGHT
BEGIN:STANDARD
TZOFFSETFROM:+0200
TZOFFSETTO:+0100
TZNAME:CET
DTSTART:20261025T010000
END:STANDARD
END:VTIMEZONE
BEGIN:VEVENT
DTSTART;TZID=Europe/Rome:20260626T090000
DTEND;TZID=Europe/Rome:20260628T180000
DTSTAMP:20260420T043431
CREATED:20260304T102200Z
LAST-MODIFIED:20260304T102200Z
UID:10023614-1782464400-1782669600@www.monzanet.it
SUMMARY:MIMO
DESCRIPTION:La 5ª edizione di MIMO si svolgerà dal 26 al 28 giugno 2026.\nTorna il festival motoristico internazionale a ingresso totalmente gratuito\, dalla vocazione fortemente dinamica\, che vedrà l’Autodromo Nazionale Monza diventare una vera e propria città dei motori attraversata da parate ed esibizioni di auto mozzafiato e dai convogli di test drive di tutte le novità delle case automobilistiche. Il pubblico di appassionati e famiglie avrà a disposizione tre giorni per provare le novità dei brand\, ammirare anche prototipi\, supercar\, hypercar\, auto storiche\, e partecipare alle attività di intrattenimento\, di gioco e ristoro.
URL:https://www.monzanet.it/evento/mimo-3/
CATEGORIES:MICE
ATTACH;FMTTYPE=image/jpeg:https://www.monzanet.it/wp-content/uploads/2026/03/MIMO-1-scaled.jpg
END:VEVENT
END:VCALENDAR